BEGIN:VCALENDAR
VERSION:2.0
PRODID:-//Mariners Cove at Lighthouse Bay Condominiums - ECPv6.15.17.1//NONSGML v1.0//EN
CALSCALE:GREGORIAN
METHOD:PUBLISH
X-WR-CALNAME:Mariners Cove at Lighthouse Bay Condominiums
X-ORIGINAL-URL:https://marinerscovemadison.com
X-WR-CALDESC:Events for Mariners Cove at Lighthouse Bay Condominiums
REFRESH-INTERVAL;VALUE=DURATION:PT1H
X-Robots-Tag:noindex
X-PUBLISHED-TTL:PT1H
BEGIN:VTIMEZONE
TZID:America/Chicago
BEGIN:DAYLIGHT
TZOFFSETFROM:-0600
TZOFFSETTO:-0500
TZNAME:CDT
DTSTART:20240310T080000
END:DAYLIGHT
BEGIN:STANDARD
TZOFFSETFROM:-0500
TZOFFSETTO:-0600
TZNAME:CST
DTSTART:20241103T070000
END:STANDARD
BEGIN:DAYLIGHT
TZOFFSETFROM:-0600
TZOFFSETTO:-0500
TZNAME:CDT
DTSTART:20250309T080000
END:DAYLIGHT
BEGIN:STANDARD
TZOFFSETFROM:-0500
TZOFFSETTO:-0600
TZNAME:CST
DTSTART:20251102T070000
END:STANDARD
BEGIN:DAYLIGHT
TZOFFSETFROM:-0600
TZOFFSETTO:-0500
TZNAME:CDT
DTSTART:20260308T080000
END:DAYLIGHT
BEGIN:STANDARD
TZOFFSETFROM:-0500
TZOFFSETTO:-0600
TZNAME:CST
DTSTART:20261101T070000
END:STANDARD
BEGIN:DAYLIGHT
TZOFFSETFROM:-0600
TZOFFSETTO:-0500
TZNAME:CDT
DTSTART:20270314T080000
END:DAYLIGHT
BEGIN:STANDARD
TZOFFSETFROM:-0500
TZOFFSETTO:-0600
TZNAME:CST
DTSTART:20271107T070000
END:STANDARD
END:VTIMEZONE
BEGIN:VEVENT
DTSTART;TZID=America/Chicago:20260128T130000
DTEND;TZID=America/Chicago:20260128T140000
DTSTAMP:20260420T132722
CREATED:20251028T185753Z
LAST-MODIFIED:20251028T185917Z
UID:10000710-1769605200-1769608800@marinerscovemadison.com
SUMMARY:WATER AEROBICS
DESCRIPTION:Water Aerobics
URL:https://marinerscovemadison.com/event/water-aerobics-2/2026-01-28/
LOCATION:Outdoor Pool
ATTACH;FMTTYPE=application/pdf:https://marinerscovemadison.com/wp-content/uploads/2025/07/Water-Aerobics-2.pdf
ORGANIZER;CN="Karen Coleman":MAILTO:karencoleman25@gmail.com
END:VEVENT
BEGIN:VEVENT
DTSTART;TZID=America/Chicago:20260121T130000
DTEND;TZID=America/Chicago:20260121T140000
DTSTAMP:20260420T132722
CREATED:20251028T185753Z
LAST-MODIFIED:20251028T185917Z
UID:10000709-1769000400-1769004000@marinerscovemadison.com
SUMMARY:WATER AEROBICS
DESCRIPTION:Water Aerobics
URL:https://marinerscovemadison.com/event/water-aerobics-2/2026-01-21/
LOCATION:Outdoor Pool
ATTACH;FMTTYPE=application/pdf:https://marinerscovemadison.com/wp-content/uploads/2025/07/Water-Aerobics-2.pdf
ORGANIZER;CN="Karen Coleman":MAILTO:karencoleman25@gmail.com
END:VEVENT
BEGIN:VEVENT
DTSTART;TZID=America/Chicago:20260114T130000
DTEND;TZID=America/Chicago:20260114T140000
DTSTAMP:20260420T132722
CREATED:20251028T185753Z
LAST-MODIFIED:20251028T185917Z
UID:10000708-1768395600-1768399200@marinerscovemadison.com
SUMMARY:WATER AEROBICS
DESCRIPTION:Water Aerobics
URL:https://marinerscovemadison.com/event/water-aerobics-2/2026-01-14/
LOCATION:Outdoor Pool
ATTACH;FMTTYPE=application/pdf:https://marinerscovemadison.com/wp-content/uploads/2025/07/Water-Aerobics-2.pdf
ORGANIZER;CN="Karen Coleman":MAILTO:karencoleman25@gmail.com
END:VEVENT
BEGIN:VEVENT
DTSTART;TZID=America/Chicago:20260107T130000
DTEND;TZID=America/Chicago:20260107T140000
DTSTAMP:20260420T132722
CREATED:20251028T185753Z
LAST-MODIFIED:20251028T185917Z
UID:10000707-1767790800-1767794400@marinerscovemadison.com
SUMMARY:WATER AEROBICS
DESCRIPTION:Water Aerobics
URL:https://marinerscovemadison.com/event/water-aerobics-2/2026-01-07/
LOCATION:Outdoor Pool
ATTACH;FMTTYPE=application/pdf:https://marinerscovemadison.com/wp-content/uploads/2025/07/Water-Aerobics-2.pdf
ORGANIZER;CN="Karen Coleman":MAILTO:karencoleman25@gmail.com
END:VEVENT
BEGIN:VEVENT
DTSTART;TZID=America/Chicago:20251217T130000
DTEND;TZID=America/Chicago:20251217T140000
DTSTAMP:20260420T132722
CREATED:20251028T185753Z
LAST-MODIFIED:20251028T185917Z
UID:10000706-1765976400-1765980000@marinerscovemadison.com
SUMMARY:WATER AEROBICS
DESCRIPTION:Water Aerobics
URL:https://marinerscovemadison.com/event/water-aerobics-2/2025-12-17/
LOCATION:Outdoor Pool
ATTACH;FMTTYPE=application/pdf:https://marinerscovemadison.com/wp-content/uploads/2025/07/Water-Aerobics-2.pdf
ORGANIZER;CN="Karen Coleman":MAILTO:karencoleman25@gmail.com
END:VEVENT
BEGIN:VEVENT
DTSTART;TZID=America/Chicago:20251210T130000
DTEND;TZID=America/Chicago:20251210T140000
DTSTAMP:20260420T132722
CREATED:20251028T185753Z
LAST-MODIFIED:20251028T185917Z
UID:10000705-1765371600-1765375200@marinerscovemadison.com
SUMMARY:WATER AEROBICS
DESCRIPTION:Water Aerobics
URL:https://marinerscovemadison.com/event/water-aerobics-2/2025-12-10/
LOCATION:Outdoor Pool
ATTACH;FMTTYPE=application/pdf:https://marinerscovemadison.com/wp-content/uploads/2025/07/Water-Aerobics-2.pdf
ORGANIZER;CN="Karen Coleman":MAILTO:karencoleman25@gmail.com
END:VEVENT
BEGIN:VEVENT
DTSTART;TZID=America/Chicago:20251203T130000
DTEND;TZID=America/Chicago:20251203T140000
DTSTAMP:20260420T132722
CREATED:20251028T185753Z
LAST-MODIFIED:20251028T185917Z
UID:10000704-1764766800-1764770400@marinerscovemadison.com
SUMMARY:WATER AEROBICS
DESCRIPTION:Water Aerobics
URL:https://marinerscovemadison.com/event/water-aerobics-2/2025-12-03/
LOCATION:Outdoor Pool
ATTACH;FMTTYPE=application/pdf:https://marinerscovemadison.com/wp-content/uploads/2025/07/Water-Aerobics-2.pdf
ORGANIZER;CN="Karen Coleman":MAILTO:karencoleman25@gmail.com
END:VEVENT
BEGIN:VEVENT
DTSTART;TZID=America/Chicago:20251119T130000
DTEND;TZID=America/Chicago:20251119T140000
DTSTAMP:20260420T132722
CREATED:20251028T185753Z
LAST-MODIFIED:20251028T185917Z
UID:10000703-1763557200-1763560800@marinerscovemadison.com
SUMMARY:WATER AEROBICS
DESCRIPTION:Water Aerobics
URL:https://marinerscovemadison.com/event/water-aerobics-2/2025-11-19/
LOCATION:Outdoor Pool
ATTACH;FMTTYPE=application/pdf:https://marinerscovemadison.com/wp-content/uploads/2025/07/Water-Aerobics-2.pdf
ORGANIZER;CN="Karen Coleman":MAILTO:karencoleman25@gmail.com
END:VEVENT
BEGIN:VEVENT
DTSTART;TZID=America/Chicago:20251112T130000
DTEND;TZID=America/Chicago:20251112T140000
DTSTAMP:20260420T132722
CREATED:20251028T185753Z
LAST-MODIFIED:20251028T185917Z
UID:10000702-1762952400-1762956000@marinerscovemadison.com
SUMMARY:WATER AEROBICS
DESCRIPTION:Water Aerobics
URL:https://marinerscovemadison.com/event/water-aerobics-2/2025-11-12/
LOCATION:Outdoor Pool
ATTACH;FMTTYPE=application/pdf:https://marinerscovemadison.com/wp-content/uploads/2025/07/Water-Aerobics-2.pdf
ORGANIZER;CN="Karen Coleman":MAILTO:karencoleman25@gmail.com
END:VEVENT
BEGIN:VEVENT
DTSTART;TZID=America/Chicago:20251105T130000
DTEND;TZID=America/Chicago:20251105T140000
DTSTAMP:20260420T132722
CREATED:20251028T185753Z
LAST-MODIFIED:20251028T185917Z
UID:10000701-1762347600-1762351200@marinerscovemadison.com
SUMMARY:WATER AEROBICS
DESCRIPTION:Water Aerobics
URL:https://marinerscovemadison.com/event/water-aerobics-2/2025-11-05/
LOCATION:Outdoor Pool
ATTACH;FMTTYPE=application/pdf:https://marinerscovemadison.com/wp-content/uploads/2025/07/Water-Aerobics-2.pdf
ORGANIZER;CN="Karen Coleman":MAILTO:karencoleman25@gmail.com
END:VEVENT
BEGIN:VEVENT
DTSTART;TZID=America/Chicago:20251029T130000
DTEND;TZID=America/Chicago:20251029T140000
DTSTAMP:20260420T132722
CREATED:20251028T185753Z
LAST-MODIFIED:20251028T185917Z
UID:10000700-1761742800-1761746400@marinerscovemadison.com
SUMMARY:WATER AEROBICS
DESCRIPTION:Water Aerobics
URL:https://marinerscovemadison.com/event/water-aerobics-2/2025-10-29/
LOCATION:Outdoor Pool
ATTACH;FMTTYPE=application/pdf:https://marinerscovemadison.com/wp-content/uploads/2025/07/Water-Aerobics-2.pdf
ORGANIZER;CN="Karen Coleman":MAILTO:karencoleman25@gmail.com
END:VEVENT
BEGIN:VEVENT
DTSTART;TZID=America/Chicago:20251022T130000
DTEND;TZID=America/Chicago:20251022T140000
DTSTAMP:20260420T132722
CREATED:20250709T144415Z
LAST-MODIFIED:20251028T184916Z
UID:10000699-1761138000-1761141600@marinerscovemadison.com
SUMMARY:WATER AEROBICS
DESCRIPTION:Water Aerobics
URL:https://marinerscovemadison.com/event/water-aerobics/2025-10-22/
LOCATION:Outdoor Pool
ORGANIZER;CN="Karen Coleman":MAILTO:karencoleman25@gmail.com
END:VEVENT
BEGIN:VEVENT
DTSTART;TZID=America/Chicago:20251015T130000
DTEND;TZID=America/Chicago:20251015T140000
DTSTAMP:20260420T132722
CREATED:20250709T144415Z
LAST-MODIFIED:20251028T184916Z
UID:10000698-1760533200-1760536800@marinerscovemadison.com
SUMMARY:WATER AEROBICS
DESCRIPTION:Water Aerobics
URL:https://marinerscovemadison.com/event/water-aerobics/2025-10-15/
LOCATION:Outdoor Pool
ORGANIZER;CN="Karen Coleman":MAILTO:karencoleman25@gmail.com
END:VEVENT
BEGIN:VEVENT
DTSTART;TZID=America/Chicago:20251008T130000
DTEND;TZID=America/Chicago:20251008T140000
DTSTAMP:20260420T132722
CREATED:20250709T144415Z
LAST-MODIFIED:20251028T184916Z
UID:10000697-1759928400-1759932000@marinerscovemadison.com
SUMMARY:WATER AEROBICS
DESCRIPTION:Water Aerobics
URL:https://marinerscovemadison.com/event/water-aerobics/2025-10-08/
LOCATION:Outdoor Pool
ORGANIZER;CN="Karen Coleman":MAILTO:karencoleman25@gmail.com
END:VEVENT
BEGIN:VEVENT
DTSTART;TZID=America/Chicago:20251004T090000
DTEND;TZID=America/Chicago:20251004T103000
DTSTAMP:20260420T132722
CREATED:20250912T022706Z
LAST-MODIFIED:20250912T022706Z
UID:10000689-1759568400-1759573800@marinerscovemadison.com
SUMMARY:Fall Pool Furniture Move
DESCRIPTION:
URL:https://marinerscovemadison.com/event/fall-pool-furniture-move/
LOCATION:Outdoor Pool
ATTACH;FMTTYPE=image/jpeg:https://marinerscovemadison.com/wp-content/uploads/2025/09/Help-with-Pool-Furniture-2025.jpg
ORGANIZER;CN="Karen Coleman":MAILTO:karencoleman25@gmail.com
END:VEVENT
BEGIN:VEVENT
DTSTART;TZID=America/Chicago:20251001T130000
DTEND;TZID=America/Chicago:20251001T140000
DTSTAMP:20260420T132722
CREATED:20250709T144415Z
LAST-MODIFIED:20251028T184916Z
UID:10000696-1759323600-1759327200@marinerscovemadison.com
SUMMARY:WATER AEROBICS
DESCRIPTION:Water Aerobics
URL:https://marinerscovemadison.com/event/water-aerobics/2025-10-01/
LOCATION:Outdoor Pool
ORGANIZER;CN="Karen Coleman":MAILTO:karencoleman25@gmail.com
END:VEVENT
BEGIN:VEVENT
DTSTART;TZID=America/Chicago:20250924T130000
DTEND;TZID=America/Chicago:20250924T140000
DTSTAMP:20260420T132722
CREATED:20250709T144415Z
LAST-MODIFIED:20251028T184916Z
UID:10000653-1758718800-1758722400@marinerscovemadison.com
SUMMARY:WATER AEROBICS
DESCRIPTION:Water Aerobics
URL:https://marinerscovemadison.com/event/water-aerobics/2025-09-24/
LOCATION:Outdoor Pool
ORGANIZER;CN="Karen Coleman":MAILTO:karencoleman25@gmail.com
END:VEVENT
BEGIN:VEVENT
DTSTART;TZID=America/Chicago:20250917T130000
DTEND;TZID=America/Chicago:20250917T140000
DTSTAMP:20260420T132722
CREATED:20250709T144415Z
LAST-MODIFIED:20251028T184916Z
UID:10000652-1758114000-1758117600@marinerscovemadison.com
SUMMARY:WATER AEROBICS
DESCRIPTION:Water Aerobics
URL:https://marinerscovemadison.com/event/water-aerobics/2025-09-17/
LOCATION:Outdoor Pool
ORGANIZER;CN="Karen Coleman":MAILTO:karencoleman25@gmail.com
END:VEVENT
BEGIN:VEVENT
DTSTART;TZID=America/Chicago:20250910T130000
DTEND;TZID=America/Chicago:20250910T140000
DTSTAMP:20260420T132722
CREATED:20250709T144415Z
LAST-MODIFIED:20251028T184916Z
UID:10000651-1757509200-1757512800@marinerscovemadison.com
SUMMARY:WATER AEROBICS
DESCRIPTION:Water Aerobics
URL:https://marinerscovemadison.com/event/water-aerobics/2025-09-10/
LOCATION:Outdoor Pool
ORGANIZER;CN="Karen Coleman":MAILTO:karencoleman25@gmail.com
END:VEVENT
BEGIN:VEVENT
DTSTART;TZID=America/Chicago:20250903T130000
DTEND;TZID=America/Chicago:20250903T140000
DTSTAMP:20260420T132722
CREATED:20250709T144415Z
LAST-MODIFIED:20251028T184916Z
UID:10000650-1756904400-1756908000@marinerscovemadison.com
SUMMARY:WATER AEROBICS
DESCRIPTION:Water Aerobics
URL:https://marinerscovemadison.com/event/water-aerobics/2025-09-03/
LOCATION:Outdoor Pool
ORGANIZER;CN="Karen Coleman":MAILTO:karencoleman25@gmail.com
END:VEVENT
BEGIN:VEVENT
DTSTART;TZID=America/Chicago:20250827T130000
DTEND;TZID=America/Chicago:20250827T140000
DTSTAMP:20260420T132722
CREATED:20250709T144415Z
LAST-MODIFIED:20251028T184916Z
UID:10000649-1756299600-1756303200@marinerscovemadison.com
SUMMARY:WATER AEROBICS
DESCRIPTION:Water Aerobics
URL:https://marinerscovemadison.com/event/water-aerobics/2025-08-27/
LOCATION:Outdoor Pool
ORGANIZER;CN="Karen Coleman":MAILTO:karencoleman25@gmail.com
END:VEVENT
BEGIN:VEVENT
DTSTART;TZID=America/Chicago:20250824T140000
DTEND;TZID=America/Chicago:20250824T170000
DTSTAMP:20260420T132722
CREATED:20250611T214649Z
LAST-MODIFIED:20250726T160904Z
UID:10000617-1756044000-1756054800@marinerscovemadison.com
SUMMARY:ICE CREAM SOCIAL
DESCRIPTION:RSVP
URL:https://marinerscovemadison.com/event/ice-cream-social/
LOCATION:Outdoor Pool
ATTACH;FMTTYPE=image/jpeg:https://marinerscovemadison.com/wp-content/uploads/2025/07/Ice-Cream-Social-8-24-2025.jpg
ORGANIZER;CN="Karen Coleman":MAILTO:karencoleman25@gmail.com
END:VEVENT
BEGIN:VEVENT
DTSTART;TZID=America/Chicago:20250820T130000
DTEND;TZID=America/Chicago:20250820T140000
DTSTAMP:20260420T132722
CREATED:20250709T144415Z
LAST-MODIFIED:20251028T184916Z
UID:10000648-1755694800-1755698400@marinerscovemadison.com
SUMMARY:WATER AEROBICS
DESCRIPTION:Water Aerobics
URL:https://marinerscovemadison.com/event/water-aerobics/2025-08-20/
LOCATION:Outdoor Pool
ORGANIZER;CN="Karen Coleman":MAILTO:karencoleman25@gmail.com
END:VEVENT
BEGIN:VEVENT
DTSTART;TZID=America/Chicago:20250813T130000
DTEND;TZID=America/Chicago:20250813T140000
DTSTAMP:20260420T132722
CREATED:20250709T144415Z
LAST-MODIFIED:20251028T184916Z
UID:10000647-1755090000-1755093600@marinerscovemadison.com
SUMMARY:WATER AEROBICS
DESCRIPTION:Water Aerobics
URL:https://marinerscovemadison.com/event/water-aerobics/2025-08-13/
LOCATION:Outdoor Pool
ORGANIZER;CN="Karen Coleman":MAILTO:karencoleman25@gmail.com
END:VEVENT
BEGIN:VEVENT
DTSTART;TZID=America/Chicago:20250806T130000
DTEND;TZID=America/Chicago:20250806T140000
DTSTAMP:20260420T132722
CREATED:20250709T144415Z
LAST-MODIFIED:20251028T184916Z
UID:10000646-1754485200-1754488800@marinerscovemadison.com
SUMMARY:WATER AEROBICS
DESCRIPTION:Water Aerobics
URL:https://marinerscovemadison.com/event/water-aerobics/2025-08-06/
LOCATION:Outdoor Pool
ORGANIZER;CN="Karen Coleman":MAILTO:karencoleman25@gmail.com
END:VEVENT
BEGIN:VEVENT
DTSTART;TZID=America/Chicago:20250730T130000
DTEND;TZID=America/Chicago:20250730T140000
DTSTAMP:20260420T132722
CREATED:20250709T144415Z
LAST-MODIFIED:20251028T184916Z
UID:10000645-1753880400-1753884000@marinerscovemadison.com
SUMMARY:WATER AEROBICS
DESCRIPTION:Water Aerobics
URL:https://marinerscovemadison.com/event/water-aerobics/2025-07-30/
LOCATION:Outdoor Pool
ORGANIZER;CN="Karen Coleman":MAILTO:karencoleman25@gmail.com
END:VEVENT
BEGIN:VEVENT
DTSTART;TZID=America/Chicago:20250723T130000
DTEND;TZID=America/Chicago:20250723T140000
DTSTAMP:20260420T132722
CREATED:20250709T144415Z
LAST-MODIFIED:20251028T184916Z
UID:10000644-1753275600-1753279200@marinerscovemadison.com
SUMMARY:WATER AEROBICS
DESCRIPTION:Water Aerobics
URL:https://marinerscovemadison.com/event/water-aerobics/2025-07-23/
LOCATION:Outdoor Pool
ORGANIZER;CN="Karen Coleman":MAILTO:karencoleman25@gmail.com
END:VEVENT
END:VCALENDAR