BEGIN:VCALENDAR
VERSION:2.0
PRODID:-//Mariners Cove at Lighthouse Bay Condominiums - ECPv6.15.17.1//NONSGML v1.0//EN
CALSCALE:GREGORIAN
METHOD:PUBLISH
X-ORIGINAL-URL:https://marinerscovemadison.com
X-WR-CALDESC:Events for Mariners Cove at Lighthouse Bay Condominiums
REFRESH-INTERVAL;VALUE=DURATION:PT1H
X-Robots-Tag:noindex
X-PUBLISHED-TTL:PT1H
BEGIN:VTIMEZONE
TZID:America/Chicago
BEGIN:DAYLIGHT
TZOFFSETFROM:-0600
TZOFFSETTO:-0500
TZNAME:CDT
DTSTART:20240310T080000
END:DAYLIGHT
BEGIN:STANDARD
TZOFFSETFROM:-0500
TZOFFSETTO:-0600
TZNAME:CST
DTSTART:20241103T070000
END:STANDARD
BEGIN:DAYLIGHT
TZOFFSETFROM:-0600
TZOFFSETTO:-0500
TZNAME:CDT
DTSTART:20250309T080000
END:DAYLIGHT
BEGIN:STANDARD
TZOFFSETFROM:-0500
TZOFFSETTO:-0600
TZNAME:CST
DTSTART:20251102T070000
END:STANDARD
BEGIN:DAYLIGHT
TZOFFSETFROM:-0600
TZOFFSETTO:-0500
TZNAME:CDT
DTSTART:20260308T080000
END:DAYLIGHT
BEGIN:STANDARD
TZOFFSETFROM:-0500
TZOFFSETTO:-0600
TZNAME:CST
DTSTART:20261101T070000
END:STANDARD
END:VTIMEZONE
BEGIN:VEVENT
DTSTART;TZID=America/Chicago:20251018T170000
DTEND;TZID=America/Chicago:20251018T200000
DTSTAMP:20260420T165107
CREATED:20251013T212218Z
LAST-MODIFIED:20251013T212218Z
UID:10000724-1760806800-1760817600@marinerscovemadison.com
SUMMARY:AUTUMN HAPPY HOUR
DESCRIPTION:
URL:https://marinerscovemadison.com/event/autumn-happy-hour/
LOCATION:MC Lawn
ATTACH;FMTTYPE=application/pdf:https://marinerscovemadison.com/wp-content/uploads/2025/10/Fall-Happy-Hour-10-18-2025-1.pdf
ORGANIZER;CN="Karen Coleman":MAILTO:karencoleman25@gmail.com
END:VEVENT
END:VCALENDAR