BEGIN:VCALENDAR
VERSION:2.0
PRODID:-//Mariners Cove at Lighthouse Bay Condominiums - ECPv6.15.17.1//NONSGML v1.0//EN
CALSCALE:GREGORIAN
METHOD:PUBLISH
X-WR-CALNAME:Mariners Cove at Lighthouse Bay Condominiums
X-ORIGINAL-URL:https://marinerscovemadison.com
X-WR-CALDESC:Events for Mariners Cove at Lighthouse Bay Condominiums
REFRESH-INTERVAL;VALUE=DURATION:PT1H
X-Robots-Tag:noindex
X-PUBLISHED-TTL:PT1H
BEGIN:VTIMEZONE
TZID:America/Chicago
BEGIN:DAYLIGHT
TZOFFSETFROM:-0600
TZOFFSETTO:-0500
TZNAME:CDT
DTSTART:20250309T080000
END:DAYLIGHT
BEGIN:STANDARD
TZOFFSETFROM:-0500
TZOFFSETTO:-0600
TZNAME:CST
DTSTART:20251102T070000
END:STANDARD
BEGIN:DAYLIGHT
TZOFFSETFROM:-0600
TZOFFSETTO:-0500
TZNAME:CDT
DTSTART:20260308T080000
END:DAYLIGHT
BEGIN:STANDARD
TZOFFSETFROM:-0500
TZOFFSETTO:-0600
TZNAME:CST
DTSTART:20261101T070000
END:STANDARD
BEGIN:DAYLIGHT
TZOFFSETFROM:-0600
TZOFFSETTO:-0500
TZNAME:CDT
DTSTART:20270314T080000
END:DAYLIGHT
BEGIN:STANDARD
TZOFFSETFROM:-0500
TZOFFSETTO:-0600
TZNAME:CST
DTSTART:20271107T070000
END:STANDARD
END:VTIMEZONE
BEGIN:VEVENT
DTSTART;TZID=America/Chicago:20260306T180000
DTEND;TZID=America/Chicago:20260306T210000
DTSTAMP:20260420T131711
CREATED:20260123T204740Z
LAST-MODIFIED:20260123T204740Z
UID:10000772-1772820000-1772830800@marinerscovemadison.com
SUMMARY:Light the Night
DESCRIPTION:
URL:https://marinerscovemadison.com/event/light-the-night-2/
LOCATION:MC Club House
ATTACH;FMTTYPE=application/pdf:https://marinerscovemadison.com/wp-content/uploads/2026/01/Light-the-Night-3-6-2026-2.pdf
ORGANIZER;CN="Karen Coleman":MAILTO:karencoleman25@gmail.com
END:VEVENT
END:VCALENDAR