BEGIN:VCALENDAR
VERSION:2.0
PRODID:-//Mariners Cove at Lighthouse Bay Condominiums - ECPv6.15.17.1//NONSGML v1.0//EN
CALSCALE:GREGORIAN
METHOD:PUBLISH
X-WR-CALNAME:Mariners Cove at Lighthouse Bay Condominiums
X-ORIGINAL-URL:https://marinerscovemadison.com
X-WR-CALDESC:Events for Mariners Cove at Lighthouse Bay Condominiums
REFRESH-INTERVAL;VALUE=DURATION:PT1H
X-Robots-Tag:noindex
X-PUBLISHED-TTL:PT1H
BEGIN:VTIMEZONE
TZID:America/Chicago
BEGIN:DAYLIGHT
TZOFFSETFROM:-0600
TZOFFSETTO:-0500
TZNAME:CDT
DTSTART:20250309T080000
END:DAYLIGHT
BEGIN:STANDARD
TZOFFSETFROM:-0500
TZOFFSETTO:-0600
TZNAME:CST
DTSTART:20251102T070000
END:STANDARD
BEGIN:DAYLIGHT
TZOFFSETFROM:-0600
TZOFFSETTO:-0500
TZNAME:CDT
DTSTART:20260308T080000
END:DAYLIGHT
BEGIN:STANDARD
TZOFFSETFROM:-0500
TZOFFSETTO:-0600
TZNAME:CST
DTSTART:20261101T070000
END:STANDARD
BEGIN:DAYLIGHT
TZOFFSETFROM:-0600
TZOFFSETTO:-0500
TZNAME:CDT
DTSTART:20270314T080000
END:DAYLIGHT
BEGIN:STANDARD
TZOFFSETFROM:-0500
TZOFFSETTO:-0600
TZNAME:CST
DTSTART:20271107T070000
END:STANDARD
END:VTIMEZONE
BEGIN:VEVENT
DTSTART;TZID=America/Chicago:20260421T130000
DTEND;TZID=America/Chicago:20260421T150000
DTSTAMP:20260420T071120
CREATED:20260329T023223Z
LAST-MODIFIED:20260329T023223Z
UID:10000826-1776776400-1776783600@marinerscovemadison.com
SUMMARY:Knitting/Crochet and Crafts Club
DESCRIPTION:
URL:https://marinerscovemadison.com/event/knitting-crochet-and-crafts-club/2026-04-21/
LOCATION:Library
ATTACH;FMTTYPE=application/pdf:https://marinerscovemadison.com/wp-content/uploads/2026/03/Knit-Crochet-Club-Summer-2026-1.pdf
ORGANIZER;CN="Karen Coleman":MAILTO:karencoleman25@gmail.com
END:VEVENT
BEGIN:VEVENT
DTSTART;TZID=America/Chicago:20260428T130000
DTEND;TZID=America/Chicago:20260428T150000
DTSTAMP:20260420T071120
CREATED:20260329T023223Z
LAST-MODIFIED:20260329T023223Z
UID:10000827-1777381200-1777388400@marinerscovemadison.com
SUMMARY:Knitting/Crochet and Crafts Club
DESCRIPTION:
URL:https://marinerscovemadison.com/event/knitting-crochet-and-crafts-club/2026-04-28/
LOCATION:Library
ATTACH;FMTTYPE=application/pdf:https://marinerscovemadison.com/wp-content/uploads/2026/03/Knit-Crochet-Club-Summer-2026-1.pdf
ORGANIZER;CN="Karen Coleman":MAILTO:karencoleman25@gmail.com
END:VEVENT
BEGIN:VEVENT
DTSTART;TZID=America/Chicago:20260430T183000
DTEND;TZID=America/Chicago:20260430T193000
DTSTAMP:20260420T071120
CREATED:20260315T190104Z
LAST-MODIFIED:20260315T192018Z
UID:10000785-1777573800-1777577400@marinerscovemadison.com
SUMMARY:Board Meeting - Confirmed
DESCRIPTION:Invite link: \nhttps://us06web.zoom.us/j/89472194773?pwd=QasNKIahWN0oHSAxn1sBjUUm3DUvzD.1 \nMeeting ID: 894 7219 4773 \nPasscode: 046449 \nOne tap mobile\n+16469313860\,\,89472194773#\,\,\,\,*046449# US\n+13017158592\,\,89472194773#\,\,\,\,*046449# US (Washington DC) \nJoin instructions\nhttps://us06web.zoom.us/meetings/89472194773/invitations?signature=Q7z3l7imYxP0-Wbh6bi0QwCNhPQ4PJyXEmezjq1sF6Q
URL:https://marinerscovemadison.com/event/board-meeting-confirmed/
LOCATION:Library
ORGANIZER;CN="Karen Coleman":MAILTO:karencoleman25@gmail.com
END:VEVENT
BEGIN:VEVENT
DTSTART;TZID=America/Chicago:20260505T130000
DTEND;TZID=America/Chicago:20260505T150000
DTSTAMP:20260420T071120
CREATED:20260329T023223Z
LAST-MODIFIED:20260329T023223Z
UID:10000828-1777986000-1777993200@marinerscovemadison.com
SUMMARY:Knitting/Crochet and Crafts Club
DESCRIPTION:
URL:https://marinerscovemadison.com/event/knitting-crochet-and-crafts-club/2026-05-05/
LOCATION:Library
ATTACH;FMTTYPE=application/pdf:https://marinerscovemadison.com/wp-content/uploads/2026/03/Knit-Crochet-Club-Summer-2026-1.pdf
ORGANIZER;CN="Karen Coleman":MAILTO:karencoleman25@gmail.com
END:VEVENT
BEGIN:VEVENT
DTSTART;TZID=America/Chicago:20260512T130000
DTEND;TZID=America/Chicago:20260512T150000
DTSTAMP:20260420T071120
CREATED:20260329T023223Z
LAST-MODIFIED:20260329T023223Z
UID:10000829-1778590800-1778598000@marinerscovemadison.com
SUMMARY:Knitting/Crochet and Crafts Club
DESCRIPTION:
URL:https://marinerscovemadison.com/event/knitting-crochet-and-crafts-club/2026-05-12/
LOCATION:Library
ATTACH;FMTTYPE=application/pdf:https://marinerscovemadison.com/wp-content/uploads/2026/03/Knit-Crochet-Club-Summer-2026-1.pdf
ORGANIZER;CN="Karen Coleman":MAILTO:karencoleman25@gmail.com
END:VEVENT
BEGIN:VEVENT
DTSTART;TZID=America/Chicago:20260519T130000
DTEND;TZID=America/Chicago:20260519T150000
DTSTAMP:20260420T071120
CREATED:20260329T023223Z
LAST-MODIFIED:20260329T023223Z
UID:10000830-1779195600-1779202800@marinerscovemadison.com
SUMMARY:Knitting/Crochet and Crafts Club
DESCRIPTION:
URL:https://marinerscovemadison.com/event/knitting-crochet-and-crafts-club/2026-05-19/
LOCATION:Library
ATTACH;FMTTYPE=application/pdf:https://marinerscovemadison.com/wp-content/uploads/2026/03/Knit-Crochet-Club-Summer-2026-1.pdf
ORGANIZER;CN="Karen Coleman":MAILTO:karencoleman25@gmail.com
END:VEVENT
BEGIN:VEVENT
DTSTART;TZID=America/Chicago:20260526T130000
DTEND;TZID=America/Chicago:20260526T150000
DTSTAMP:20260420T071120
CREATED:20260329T023223Z
LAST-MODIFIED:20260329T023223Z
UID:10000831-1779800400-1779807600@marinerscovemadison.com
SUMMARY:Knitting/Crochet and Crafts Club
DESCRIPTION:
URL:https://marinerscovemadison.com/event/knitting-crochet-and-crafts-club/2026-05-26/
LOCATION:Library
ATTACH;FMTTYPE=application/pdf:https://marinerscovemadison.com/wp-content/uploads/2026/03/Knit-Crochet-Club-Summer-2026-1.pdf
ORGANIZER;CN="Karen Coleman":MAILTO:karencoleman25@gmail.com
END:VEVENT
BEGIN:VEVENT
DTSTART;TZID=America/Chicago:20260602T130000
DTEND;TZID=America/Chicago:20260602T150000
DTSTAMP:20260420T071120
CREATED:20260329T023223Z
LAST-MODIFIED:20260329T023223Z
UID:10000832-1780405200-1780412400@marinerscovemadison.com
SUMMARY:Knitting/Crochet and Crafts Club
DESCRIPTION:
URL:https://marinerscovemadison.com/event/knitting-crochet-and-crafts-club/2026-06-02/
LOCATION:Library
ATTACH;FMTTYPE=application/pdf:https://marinerscovemadison.com/wp-content/uploads/2026/03/Knit-Crochet-Club-Summer-2026-1.pdf
ORGANIZER;CN="Karen Coleman":MAILTO:karencoleman25@gmail.com
END:VEVENT
BEGIN:VEVENT
DTSTART;TZID=America/Chicago:20260609T130000
DTEND;TZID=America/Chicago:20260609T150000
DTSTAMP:20260420T071120
CREATED:20260329T023223Z
LAST-MODIFIED:20260329T023223Z
UID:10000833-1781010000-1781017200@marinerscovemadison.com
SUMMARY:Knitting/Crochet and Crafts Club
DESCRIPTION:
URL:https://marinerscovemadison.com/event/knitting-crochet-and-crafts-club/2026-06-09/
LOCATION:Library
ATTACH;FMTTYPE=application/pdf:https://marinerscovemadison.com/wp-content/uploads/2026/03/Knit-Crochet-Club-Summer-2026-1.pdf
ORGANIZER;CN="Karen Coleman":MAILTO:karencoleman25@gmail.com
END:VEVENT
BEGIN:VEVENT
DTSTART;TZID=America/Chicago:20260616T130000
DTEND;TZID=America/Chicago:20260616T150000
DTSTAMP:20260420T071120
CREATED:20260329T023223Z
LAST-MODIFIED:20260329T023223Z
UID:10000834-1781614800-1781622000@marinerscovemadison.com
SUMMARY:Knitting/Crochet and Crafts Club
DESCRIPTION:
URL:https://marinerscovemadison.com/event/knitting-crochet-and-crafts-club/2026-06-16/
LOCATION:Library
ATTACH;FMTTYPE=application/pdf:https://marinerscovemadison.com/wp-content/uploads/2026/03/Knit-Crochet-Club-Summer-2026-1.pdf
ORGANIZER;CN="Karen Coleman":MAILTO:karencoleman25@gmail.com
END:VEVENT
BEGIN:VEVENT
DTSTART;TZID=America/Chicago:20260623T130000
DTEND;TZID=America/Chicago:20260623T150000
DTSTAMP:20260420T071120
CREATED:20260329T023223Z
LAST-MODIFIED:20260329T023223Z
UID:10000835-1782219600-1782226800@marinerscovemadison.com
SUMMARY:Knitting/Crochet and Crafts Club
DESCRIPTION:
URL:https://marinerscovemadison.com/event/knitting-crochet-and-crafts-club/2026-06-23/
LOCATION:Library
ATTACH;FMTTYPE=application/pdf:https://marinerscovemadison.com/wp-content/uploads/2026/03/Knit-Crochet-Club-Summer-2026-1.pdf
ORGANIZER;CN="Karen Coleman":MAILTO:karencoleman25@gmail.com
END:VEVENT
BEGIN:VEVENT
DTSTART;TZID=America/Chicago:20260630T130000
DTEND;TZID=America/Chicago:20260630T150000
DTSTAMP:20260420T071120
CREATED:20260329T023223Z
LAST-MODIFIED:20260329T023223Z
UID:10000836-1782824400-1782831600@marinerscovemadison.com
SUMMARY:Knitting/Crochet and Crafts Club
DESCRIPTION:
URL:https://marinerscovemadison.com/event/knitting-crochet-and-crafts-club/2026-06-30/
LOCATION:Library
ATTACH;FMTTYPE=application/pdf:https://marinerscovemadison.com/wp-content/uploads/2026/03/Knit-Crochet-Club-Summer-2026-1.pdf
ORGANIZER;CN="Karen Coleman":MAILTO:karencoleman25@gmail.com
END:VEVENT
BEGIN:VEVENT
DTSTART;TZID=America/Chicago:20260707T130000
DTEND;TZID=America/Chicago:20260707T150000
DTSTAMP:20260420T071120
CREATED:20260329T023223Z
LAST-MODIFIED:20260329T023223Z
UID:10000837-1783429200-1783436400@marinerscovemadison.com
SUMMARY:Knitting/Crochet and Crafts Club
DESCRIPTION:
URL:https://marinerscovemadison.com/event/knitting-crochet-and-crafts-club/2026-07-07/
LOCATION:Library
ATTACH;FMTTYPE=application/pdf:https://marinerscovemadison.com/wp-content/uploads/2026/03/Knit-Crochet-Club-Summer-2026-1.pdf
ORGANIZER;CN="Karen Coleman":MAILTO:karencoleman25@gmail.com
END:VEVENT
BEGIN:VEVENT
DTSTART;TZID=America/Chicago:20260714T130000
DTEND;TZID=America/Chicago:20260714T150000
DTSTAMP:20260420T071120
CREATED:20260329T023223Z
LAST-MODIFIED:20260329T023223Z
UID:10000838-1784034000-1784041200@marinerscovemadison.com
SUMMARY:Knitting/Crochet and Crafts Club
DESCRIPTION:
URL:https://marinerscovemadison.com/event/knitting-crochet-and-crafts-club/2026-07-14/
LOCATION:Library
ATTACH;FMTTYPE=application/pdf:https://marinerscovemadison.com/wp-content/uploads/2026/03/Knit-Crochet-Club-Summer-2026-1.pdf
ORGANIZER;CN="Karen Coleman":MAILTO:karencoleman25@gmail.com
END:VEVENT
BEGIN:VEVENT
DTSTART;TZID=America/Chicago:20260721T130000
DTEND;TZID=America/Chicago:20260721T150000
DTSTAMP:20260420T071120
CREATED:20260329T023223Z
LAST-MODIFIED:20260329T023223Z
UID:10000839-1784638800-1784646000@marinerscovemadison.com
SUMMARY:Knitting/Crochet and Crafts Club
DESCRIPTION:
URL:https://marinerscovemadison.com/event/knitting-crochet-and-crafts-club/2026-07-21/
LOCATION:Library
ATTACH;FMTTYPE=application/pdf:https://marinerscovemadison.com/wp-content/uploads/2026/03/Knit-Crochet-Club-Summer-2026-1.pdf
ORGANIZER;CN="Karen Coleman":MAILTO:karencoleman25@gmail.com
END:VEVENT
BEGIN:VEVENT
DTSTART;TZID=America/Chicago:20260728T130000
DTEND;TZID=America/Chicago:20260728T150000
DTSTAMP:20260420T071120
CREATED:20260329T023223Z
LAST-MODIFIED:20260329T023223Z
UID:10000840-1785243600-1785250800@marinerscovemadison.com
SUMMARY:Knitting/Crochet and Crafts Club
DESCRIPTION:
URL:https://marinerscovemadison.com/event/knitting-crochet-and-crafts-club/2026-07-28/
LOCATION:Library
ATTACH;FMTTYPE=application/pdf:https://marinerscovemadison.com/wp-content/uploads/2026/03/Knit-Crochet-Club-Summer-2026-1.pdf
ORGANIZER;CN="Karen Coleman":MAILTO:karencoleman25@gmail.com
END:VEVENT
END:VCALENDAR