BEGIN:VCALENDAR
VERSION:2.0
PRODID:-//Mariners Cove at Lighthouse Bay Condominiums - ECPv6.15.17.1//NONSGML v1.0//EN
CALSCALE:GREGORIAN
METHOD:PUBLISH
X-WR-CALNAME:Mariners Cove at Lighthouse Bay Condominiums
X-ORIGINAL-URL:https://marinerscovemadison.com
X-WR-CALDESC:Events for Mariners Cove at Lighthouse Bay Condominiums
REFRESH-INTERVAL;VALUE=DURATION:PT1H
X-Robots-Tag:noindex
X-PUBLISHED-TTL:PT1H
BEGIN:VTIMEZONE
TZID:America/Chicago
BEGIN:DAYLIGHT
TZOFFSETFROM:-0600
TZOFFSETTO:-0500
TZNAME:CDT
DTSTART:20240310T080000
END:DAYLIGHT
BEGIN:STANDARD
TZOFFSETFROM:-0500
TZOFFSETTO:-0600
TZNAME:CST
DTSTART:20241103T070000
END:STANDARD
BEGIN:DAYLIGHT
TZOFFSETFROM:-0600
TZOFFSETTO:-0500
TZNAME:CDT
DTSTART:20250309T080000
END:DAYLIGHT
BEGIN:STANDARD
TZOFFSETFROM:-0500
TZOFFSETTO:-0600
TZNAME:CST
DTSTART:20251102T070000
END:STANDARD
BEGIN:DAYLIGHT
TZOFFSETFROM:-0600
TZOFFSETTO:-0500
TZNAME:CDT
DTSTART:20260308T080000
END:DAYLIGHT
BEGIN:STANDARD
TZOFFSETFROM:-0500
TZOFFSETTO:-0600
TZNAME:CST
DTSTART:20261101T070000
END:STANDARD
BEGIN:DAYLIGHT
TZOFFSETFROM:-0600
TZOFFSETTO:-0500
TZNAME:CDT
DTSTART:20270314T080000
END:DAYLIGHT
BEGIN:STANDARD
TZOFFSETFROM:-0500
TZOFFSETTO:-0600
TZNAME:CST
DTSTART:20271107T070000
END:STANDARD
END:VTIMEZONE
BEGIN:VEVENT
DTSTART;TZID=America/Chicago:20260414T130000
DTEND;TZID=America/Chicago:20260414T150000
DTSTAMP:20260420T083311
CREATED:20260329T023223Z
LAST-MODIFIED:20260329T023223Z
UID:10000825-1776171600-1776178800@marinerscovemadison.com
SUMMARY:Knitting/Crochet and Crafts Club
DESCRIPTION:
URL:https://marinerscovemadison.com/event/knitting-crochet-and-crafts-club/2026-04-14/
LOCATION:Library
ATTACH;FMTTYPE=application/pdf:https://marinerscovemadison.com/wp-content/uploads/2026/03/Knit-Crochet-Club-Summer-2026-1.pdf
ORGANIZER;CN="Karen Coleman":MAILTO:karencoleman25@gmail.com
END:VEVENT
BEGIN:VEVENT
DTSTART;TZID=America/Chicago:20260407T130000
DTEND;TZID=America/Chicago:20260407T150000
DTSTAMP:20260420T083311
CREATED:20260329T023223Z
LAST-MODIFIED:20260329T023223Z
UID:10000824-1775566800-1775574000@marinerscovemadison.com
SUMMARY:Knitting/Crochet and Crafts Club
DESCRIPTION:
URL:https://marinerscovemadison.com/event/knitting-crochet-and-crafts-club/2026-04-07/
LOCATION:Library
ATTACH;FMTTYPE=application/pdf:https://marinerscovemadison.com/wp-content/uploads/2026/03/Knit-Crochet-Club-Summer-2026-1.pdf
ORGANIZER;CN="Karen Coleman":MAILTO:karencoleman25@gmail.com
END:VEVENT
BEGIN:VEVENT
DTSTART;TZID=America/Chicago:20260331T130000
DTEND;TZID=America/Chicago:20260331T150000
DTSTAMP:20260420T083311
CREATED:20260326T211135Z
LAST-MODIFIED:20260326T211135Z
UID:10000823-1774962000-1774969200@marinerscovemadison.com
SUMMARY:Watercolor- Urban Landscapes
DESCRIPTION:
URL:https://marinerscovemadison.com/event/watercolor-urban-landscapes/
LOCATION:Library
ATTACH;FMTTYPE=application/pdf:https://marinerscovemadison.com/wp-content/uploads/2026/03/Watercolor-March-31-2026.pdf
ORGANIZER;CN="Karen Coleman":MAILTO:karencoleman25@gmail.com
END:VEVENT
BEGIN:VEVENT
DTSTART;TZID=America/Chicago:20260331T130000
DTEND;TZID=America/Chicago:20260331T150000
DTSTAMP:20260420T083311
CREATED:20251023T204707Z
LAST-MODIFIED:20251023T204707Z
UID:10000744-1774962000-1774969200@marinerscovemadison.com
SUMMARY:Knitting-Crochet-Craft Club
DESCRIPTION:
URL:https://marinerscovemadison.com/event/knitting-crochet-craft-club/2026-03-31/
LOCATION:Library
ATTACH;FMTTYPE=application/pdf:https://marinerscovemadison.com/wp-content/uploads/2025/10/Knit-Crochet-Club-Invite.pdf
ORGANIZER;CN="Karen Coleman":MAILTO:karencoleman25@gmail.com
END:VEVENT
BEGIN:VEVENT
DTSTART;TZID=America/Chicago:20260328T093000
DTEND;TZID=America/Chicago:20260328T103000
DTSTAMP:20260420T083311
CREATED:20260315T185515Z
LAST-MODIFIED:20260316T152520Z
UID:10000784-1774690200-1774693800@marinerscovemadison.com
SUMMARY:Board Meeting - Confirmed
DESCRIPTION:Invite link: \nhttps://us06web.zoom.us/j/89196214056?pwd=P8r8UsGEAlP7a3XxOESb97UPWBQaxI.1 \nMeeting ID: 891 9621 4056 \nPasscode: 890667 \nOne tap mobile\n+13017158592\,\,89196214056#\,\,\,\,*890667# US (Washington DC)\n+13052241968\,\,89196214056#\,\,\,\,*890667# US \nJoin instructions\nhttps://us06web.zoom.us/meetings/89196214056/invitations?signature=jYEzAQ20L1noYLFnfIPFrWRSBgI0BgwwqF-NT3UOcms
URL:https://marinerscovemadison.com/event/board-meeting/
LOCATION:Library
ORGANIZER;CN="Karen Coleman":MAILTO:karencoleman25@gmail.com
END:VEVENT
BEGIN:VEVENT
DTSTART;TZID=America/Chicago:20260324T130000
DTEND;TZID=America/Chicago:20260324T150000
DTSTAMP:20260420T083311
CREATED:20251023T204707Z
LAST-MODIFIED:20251023T204707Z
UID:10000743-1774357200-1774364400@marinerscovemadison.com
SUMMARY:Knitting-Crochet-Craft Club
DESCRIPTION:
URL:https://marinerscovemadison.com/event/knitting-crochet-craft-club/2026-03-24/
LOCATION:Library
ATTACH;FMTTYPE=application/pdf:https://marinerscovemadison.com/wp-content/uploads/2025/10/Knit-Crochet-Club-Invite.pdf
ORGANIZER;CN="Karen Coleman":MAILTO:karencoleman25@gmail.com
END:VEVENT
BEGIN:VEVENT
DTSTART;TZID=America/Chicago:20260317T130000
DTEND;TZID=America/Chicago:20260317T150000
DTSTAMP:20260420T083311
CREATED:20251023T204707Z
LAST-MODIFIED:20251023T204707Z
UID:10000742-1773752400-1773759600@marinerscovemadison.com
SUMMARY:Knitting-Crochet-Craft Club
DESCRIPTION:
URL:https://marinerscovemadison.com/event/knitting-crochet-craft-club/2026-03-17/
LOCATION:Library
ATTACH;FMTTYPE=application/pdf:https://marinerscovemadison.com/wp-content/uploads/2025/10/Knit-Crochet-Club-Invite.pdf
ORGANIZER;CN="Karen Coleman":MAILTO:karencoleman25@gmail.com
END:VEVENT
BEGIN:VEVENT
DTSTART;TZID=America/Chicago:20260310T130000
DTEND;TZID=America/Chicago:20260310T150000
DTSTAMP:20260420T083311
CREATED:20251023T204707Z
LAST-MODIFIED:20251023T204707Z
UID:10000741-1773147600-1773154800@marinerscovemadison.com
SUMMARY:Knitting-Crochet-Craft Club
DESCRIPTION:
URL:https://marinerscovemadison.com/event/knitting-crochet-craft-club/2026-03-10/
LOCATION:Library
ATTACH;FMTTYPE=application/pdf:https://marinerscovemadison.com/wp-content/uploads/2025/10/Knit-Crochet-Club-Invite.pdf
ORGANIZER;CN="Karen Coleman":MAILTO:karencoleman25@gmail.com
END:VEVENT
BEGIN:VEVENT
DTSTART;TZID=America/Chicago:20260303T130000
DTEND;TZID=America/Chicago:20260303T150000
DTSTAMP:20260420T083311
CREATED:20251023T204707Z
LAST-MODIFIED:20251023T204707Z
UID:10000740-1772542800-1772550000@marinerscovemadison.com
SUMMARY:Knitting-Crochet-Craft Club
DESCRIPTION:
URL:https://marinerscovemadison.com/event/knitting-crochet-craft-club/2026-03-03/
LOCATION:Library
ATTACH;FMTTYPE=application/pdf:https://marinerscovemadison.com/wp-content/uploads/2025/10/Knit-Crochet-Club-Invite.pdf
ORGANIZER;CN="Karen Coleman":MAILTO:karencoleman25@gmail.com
END:VEVENT
BEGIN:VEVENT
DTSTART;TZID=America/Chicago:20260224T130000
DTEND;TZID=America/Chicago:20260224T150000
DTSTAMP:20260420T083311
CREATED:20251023T204707Z
LAST-MODIFIED:20251023T204707Z
UID:10000739-1771938000-1771945200@marinerscovemadison.com
SUMMARY:Knitting-Crochet-Craft Club
DESCRIPTION:
URL:https://marinerscovemadison.com/event/knitting-crochet-craft-club/2026-02-24/
LOCATION:Library
ATTACH;FMTTYPE=application/pdf:https://marinerscovemadison.com/wp-content/uploads/2025/10/Knit-Crochet-Club-Invite.pdf
ORGANIZER;CN="Karen Coleman":MAILTO:karencoleman25@gmail.com
END:VEVENT
BEGIN:VEVENT
DTSTART;TZID=America/Chicago:20260217T130000
DTEND;TZID=America/Chicago:20260217T150000
DTSTAMP:20260420T083311
CREATED:20251023T204707Z
LAST-MODIFIED:20251023T204707Z
UID:10000738-1771333200-1771340400@marinerscovemadison.com
SUMMARY:Knitting-Crochet-Craft Club
DESCRIPTION:
URL:https://marinerscovemadison.com/event/knitting-crochet-craft-club/2026-02-17/
LOCATION:Library
ATTACH;FMTTYPE=application/pdf:https://marinerscovemadison.com/wp-content/uploads/2025/10/Knit-Crochet-Club-Invite.pdf
ORGANIZER;CN="Karen Coleman":MAILTO:karencoleman25@gmail.com
END:VEVENT
BEGIN:VEVENT
DTSTART;TZID=America/Chicago:20260210T130000
DTEND;TZID=America/Chicago:20260210T150000
DTSTAMP:20260420T083311
CREATED:20251023T204707Z
LAST-MODIFIED:20251023T204707Z
UID:10000737-1770728400-1770735600@marinerscovemadison.com
SUMMARY:Knitting-Crochet-Craft Club
DESCRIPTION:
URL:https://marinerscovemadison.com/event/knitting-crochet-craft-club/2026-02-10/
LOCATION:Library
ATTACH;FMTTYPE=application/pdf:https://marinerscovemadison.com/wp-content/uploads/2025/10/Knit-Crochet-Club-Invite.pdf
ORGANIZER;CN="Karen Coleman":MAILTO:karencoleman25@gmail.com
END:VEVENT
BEGIN:VEVENT
DTSTART;TZID=America/Chicago:20260203T130000
DTEND;TZID=America/Chicago:20260203T150000
DTSTAMP:20260420T083311
CREATED:20251023T204707Z
LAST-MODIFIED:20251023T204707Z
UID:10000736-1770123600-1770130800@marinerscovemadison.com
SUMMARY:Knitting-Crochet-Craft Club
DESCRIPTION:
URL:https://marinerscovemadison.com/event/knitting-crochet-craft-club/2026-02-03/
LOCATION:Library
ATTACH;FMTTYPE=application/pdf:https://marinerscovemadison.com/wp-content/uploads/2025/10/Knit-Crochet-Club-Invite.pdf
ORGANIZER;CN="Karen Coleman":MAILTO:karencoleman25@gmail.com
END:VEVENT
BEGIN:VEVENT
DTSTART;TZID=America/Chicago:20260128T183000
DTEND;TZID=America/Chicago:20260128T200000
DTSTAMP:20260420T083311
CREATED:20251225T192449Z
LAST-MODIFIED:20260124T002159Z
UID:10000768-1769625000-1769630400@marinerscovemadison.com
SUMMARY:Monthly Mariner's Cove Board Meeting - Confirmed
DESCRIPTION:Join Zoom Meeting \nhttps://us06web.zoom.us/j/89683960750?pwd=V6dawNBLj7SBDmcChRktmFn6B5dAXM.1 \nMeeting ID: 896 8396 0750 \nPasscode: 173577 \nOne tap mobile \n+13092053325\,\,89683960750#\,\,\,\,*173577# US \n+13126266799\,\,89683960750#\,\,\,\,*173577# US (Chicago) \nJoin instructions \nhttps://us06web.zoom.us/meetings/89683960750/invitations?signature=E6cAoqN6miaeOO1rC0LTVzFOwOHdAFBM7Z65kySx_18
URL:https://marinerscovemadison.com/event/monthly-mariners-cove-board-meeting-confirmed-2/
LOCATION:Library
ORGANIZER;CN="Karen Coleman":MAILTO:karencoleman25@gmail.com
END:VEVENT
BEGIN:VEVENT
DTSTART;TZID=America/Chicago:20260127T130000
DTEND;TZID=America/Chicago:20260127T150000
DTSTAMP:20260420T083311
CREATED:20251023T204707Z
LAST-MODIFIED:20251023T204707Z
UID:10000735-1769518800-1769526000@marinerscovemadison.com
SUMMARY:Knitting-Crochet-Craft Club
DESCRIPTION:
URL:https://marinerscovemadison.com/event/knitting-crochet-craft-club/2026-01-27/
LOCATION:Library
ATTACH;FMTTYPE=application/pdf:https://marinerscovemadison.com/wp-content/uploads/2025/10/Knit-Crochet-Club-Invite.pdf
ORGANIZER;CN="Karen Coleman":MAILTO:karencoleman25@gmail.com
END:VEVENT
BEGIN:VEVENT
DTSTART;TZID=America/Chicago:20260120T130000
DTEND;TZID=America/Chicago:20260120T150000
DTSTAMP:20260420T083311
CREATED:20251023T204707Z
LAST-MODIFIED:20251023T204707Z
UID:10000734-1768914000-1768921200@marinerscovemadison.com
SUMMARY:Knitting-Crochet-Craft Club
DESCRIPTION:
URL:https://marinerscovemadison.com/event/knitting-crochet-craft-club/2026-01-20/
LOCATION:Library
ATTACH;FMTTYPE=application/pdf:https://marinerscovemadison.com/wp-content/uploads/2025/10/Knit-Crochet-Club-Invite.pdf
ORGANIZER;CN="Karen Coleman":MAILTO:karencoleman25@gmail.com
END:VEVENT
BEGIN:VEVENT
DTSTART;TZID=America/Chicago:20260113T130000
DTEND;TZID=America/Chicago:20260113T150000
DTSTAMP:20260420T083311
CREATED:20251023T204707Z
LAST-MODIFIED:20251023T204707Z
UID:10000733-1768309200-1768316400@marinerscovemadison.com
SUMMARY:Knitting-Crochet-Craft Club
DESCRIPTION:
URL:https://marinerscovemadison.com/event/knitting-crochet-craft-club/2026-01-13/
LOCATION:Library
ATTACH;FMTTYPE=application/pdf:https://marinerscovemadison.com/wp-content/uploads/2025/10/Knit-Crochet-Club-Invite.pdf
ORGANIZER;CN="Karen Coleman":MAILTO:karencoleman25@gmail.com
END:VEVENT
BEGIN:VEVENT
DTSTART;TZID=America/Chicago:20260112T130000
DTEND;TZID=America/Chicago:20260112T143000
DTSTAMP:20260420T083311
CREATED:20260107T214220Z
LAST-MODIFIED:20260107T214220Z
UID:10000770-1768222800-1768228200@marinerscovemadison.com
SUMMARY:MCU - Memoir Class
DESCRIPTION:
URL:https://marinerscovemadison.com/event/mcu-memoir-class/
LOCATION:Library
ORGANIZER;CN="Karen Coleman":MAILTO:karencoleman25@gmail.com
END:VEVENT
BEGIN:VEVENT
DTSTART;TZID=America/Chicago:20260106T130000
DTEND;TZID=America/Chicago:20260106T150000
DTSTAMP:20260420T083311
CREATED:20251023T204707Z
LAST-MODIFIED:20251023T204707Z
UID:10000732-1767704400-1767711600@marinerscovemadison.com
SUMMARY:Knitting-Crochet-Craft Club
DESCRIPTION:
URL:https://marinerscovemadison.com/event/knitting-crochet-craft-club/2026-01-06/
LOCATION:Library
ATTACH;FMTTYPE=application/pdf:https://marinerscovemadison.com/wp-content/uploads/2025/10/Knit-Crochet-Club-Invite.pdf
ORGANIZER;CN="Karen Coleman":MAILTO:karencoleman25@gmail.com
END:VEVENT
BEGIN:VEVENT
DTSTART;TZID=America/Chicago:20251216T130000
DTEND;TZID=America/Chicago:20251216T150000
DTSTAMP:20260420T083311
CREATED:20251023T204707Z
LAST-MODIFIED:20251023T204707Z
UID:10000731-1765890000-1765897200@marinerscovemadison.com
SUMMARY:Knitting-Crochet-Craft Club
DESCRIPTION:
URL:https://marinerscovemadison.com/event/knitting-crochet-craft-club/2025-12-16/
LOCATION:Library
ATTACH;FMTTYPE=application/pdf:https://marinerscovemadison.com/wp-content/uploads/2025/10/Knit-Crochet-Club-Invite.pdf
ORGANIZER;CN="Karen Coleman":MAILTO:karencoleman25@gmail.com
END:VEVENT
BEGIN:VEVENT
DTSTART;TZID=America/Chicago:20251209T130000
DTEND;TZID=America/Chicago:20251209T150000
DTSTAMP:20260420T083311
CREATED:20251023T204707Z
LAST-MODIFIED:20251023T204707Z
UID:10000730-1765285200-1765292400@marinerscovemadison.com
SUMMARY:Knitting-Crochet-Craft Club
DESCRIPTION:
URL:https://marinerscovemadison.com/event/knitting-crochet-craft-club/2025-12-09/
LOCATION:Library
ATTACH;FMTTYPE=application/pdf:https://marinerscovemadison.com/wp-content/uploads/2025/10/Knit-Crochet-Club-Invite.pdf
ORGANIZER;CN="Karen Coleman":MAILTO:karencoleman25@gmail.com
END:VEVENT
BEGIN:VEVENT
DTSTART;TZID=America/Chicago:20251202T130000
DTEND;TZID=America/Chicago:20251202T150000
DTSTAMP:20260420T083311
CREATED:20251023T204707Z
LAST-MODIFIED:20251023T204707Z
UID:10000729-1764680400-1764687600@marinerscovemadison.com
SUMMARY:Knitting-Crochet-Craft Club
DESCRIPTION:
URL:https://marinerscovemadison.com/event/knitting-crochet-craft-club/2025-12-02/
LOCATION:Library
ATTACH;FMTTYPE=application/pdf:https://marinerscovemadison.com/wp-content/uploads/2025/10/Knit-Crochet-Club-Invite.pdf
ORGANIZER;CN="Karen Coleman":MAILTO:karencoleman25@gmail.com
END:VEVENT
BEGIN:VEVENT
DTSTART;TZID=America/Chicago:20251125T130000
DTEND;TZID=America/Chicago:20251125T150000
DTSTAMP:20260420T083311
CREATED:20251023T204707Z
LAST-MODIFIED:20251023T204707Z
UID:10000728-1764075600-1764082800@marinerscovemadison.com
SUMMARY:Knitting-Crochet-Craft Club
DESCRIPTION:
URL:https://marinerscovemadison.com/event/knitting-crochet-craft-club/2025-11-25/
LOCATION:Library
ATTACH;FMTTYPE=application/pdf:https://marinerscovemadison.com/wp-content/uploads/2025/10/Knit-Crochet-Club-Invite.pdf
ORGANIZER;CN="Karen Coleman":MAILTO:karencoleman25@gmail.com
END:VEVENT
BEGIN:VEVENT
DTSTART;TZID=America/Chicago:20251120T093000
DTEND;TZID=America/Chicago:20251120T113000
DTSTAMP:20260420T083311
CREATED:20250901T174006Z
LAST-MODIFIED:20250901T174006Z
UID:10000688-1763631000-1763638200@marinerscovemadison.com
SUMMARY:Card/Game Club
DESCRIPTION:
URL:https://marinerscovemadison.com/event/card-game-club-4/2025-11-20/
LOCATION:Library
ATTACH;FMTTYPE=image/jpeg:https://marinerscovemadison.com/wp-content/uploads/2025/09/Card-Game-Flyer-Update-9-1-2025.jpg
ORGANIZER;CN="Eileen Plagge":MAILTO:emplagge@gmail.com
END:VEVENT
BEGIN:VEVENT
DTSTART;TZID=America/Chicago:20251118T183000
DTEND;TZID=America/Chicago:20251118T203000
DTSTAMP:20260420T083311
CREATED:20250901T173357Z
LAST-MODIFIED:20250901T173357Z
UID:10000676-1763490600-1763497800@marinerscovemadison.com
SUMMARY:Card/Game Club
DESCRIPTION:
URL:https://marinerscovemadison.com/event/card-game-club-3/2025-11-18/
LOCATION:Library
ATTACH;FMTTYPE=image/jpeg:https://marinerscovemadison.com/wp-content/uploads/2025/09/Card-Game-Flyer-Update-9-1-2025.jpg
ORGANIZER;CN="Eileen Plagge":MAILTO:emplagge@gmail.com
END:VEVENT
BEGIN:VEVENT
DTSTART;TZID=America/Chicago:20251118T130000
DTEND;TZID=America/Chicago:20251118T150000
DTSTAMP:20260420T083311
CREATED:20251023T204707Z
LAST-MODIFIED:20251023T204707Z
UID:10000727-1763470800-1763478000@marinerscovemadison.com
SUMMARY:Knitting-Crochet-Craft Club
DESCRIPTION:
URL:https://marinerscovemadison.com/event/knitting-crochet-craft-club/2025-11-18/
LOCATION:Library
ATTACH;FMTTYPE=application/pdf:https://marinerscovemadison.com/wp-content/uploads/2025/10/Knit-Crochet-Club-Invite.pdf
ORGANIZER;CN="Karen Coleman":MAILTO:karencoleman25@gmail.com
END:VEVENT
BEGIN:VEVENT
DTSTART;TZID=America/Chicago:20251113T093000
DTEND;TZID=America/Chicago:20251113T113000
DTSTAMP:20260420T083311
CREATED:20250901T174006Z
LAST-MODIFIED:20250901T174006Z
UID:10000687-1763026200-1763033400@marinerscovemadison.com
SUMMARY:Card/Game Club
DESCRIPTION:
URL:https://marinerscovemadison.com/event/card-game-club-4/2025-11-13/
LOCATION:Library
ATTACH;FMTTYPE=image/jpeg:https://marinerscovemadison.com/wp-content/uploads/2025/09/Card-Game-Flyer-Update-9-1-2025.jpg
ORGANIZER;CN="Eileen Plagge":MAILTO:emplagge@gmail.com
END:VEVENT
BEGIN:VEVENT
DTSTART;TZID=America/Chicago:20251111T183000
DTEND;TZID=America/Chicago:20251111T203000
DTSTAMP:20260420T083311
CREATED:20250901T173357Z
LAST-MODIFIED:20250901T173357Z
UID:10000675-1762885800-1762893000@marinerscovemadison.com
SUMMARY:Card/Game Club
DESCRIPTION:
URL:https://marinerscovemadison.com/event/card-game-club-3/2025-11-11/
LOCATION:Library
ATTACH;FMTTYPE=image/jpeg:https://marinerscovemadison.com/wp-content/uploads/2025/09/Card-Game-Flyer-Update-9-1-2025.jpg
ORGANIZER;CN="Eileen Plagge":MAILTO:emplagge@gmail.com
END:VEVENT
BEGIN:VEVENT
DTSTART;TZID=America/Chicago:20251111T130000
DTEND;TZID=America/Chicago:20251111T150000
DTSTAMP:20260420T083311
CREATED:20251023T204707Z
LAST-MODIFIED:20251023T204707Z
UID:10000726-1762866000-1762873200@marinerscovemadison.com
SUMMARY:Knitting-Crochet-Craft Club
DESCRIPTION:
URL:https://marinerscovemadison.com/event/knitting-crochet-craft-club/2025-11-11/
LOCATION:Library
ATTACH;FMTTYPE=application/pdf:https://marinerscovemadison.com/wp-content/uploads/2025/10/Knit-Crochet-Club-Invite.pdf
ORGANIZER;CN="Karen Coleman":MAILTO:karencoleman25@gmail.com
END:VEVENT
BEGIN:VEVENT
DTSTART;TZID=America/Chicago:20251106T093000
DTEND;TZID=America/Chicago:20251106T113000
DTSTAMP:20260420T083311
CREATED:20250901T174006Z
LAST-MODIFIED:20250901T174006Z
UID:10000686-1762421400-1762428600@marinerscovemadison.com
SUMMARY:Card/Game Club
DESCRIPTION:
URL:https://marinerscovemadison.com/event/card-game-club-4/2025-11-06/
LOCATION:Library
ATTACH;FMTTYPE=image/jpeg:https://marinerscovemadison.com/wp-content/uploads/2025/09/Card-Game-Flyer-Update-9-1-2025.jpg
ORGANIZER;CN="Eileen Plagge":MAILTO:emplagge@gmail.com
END:VEVENT
END:VCALENDAR