BEGIN:VCALENDAR
VERSION:2.0
PRODID:-//Mariners Cove at Lighthouse Bay Condominiums - ECPv6.15.17.1//NONSGML v1.0//EN
CALSCALE:GREGORIAN
METHOD:PUBLISH
X-ORIGINAL-URL:https://marinerscovemadison.com
X-WR-CALDESC:Events for Mariners Cove at Lighthouse Bay Condominiums
REFRESH-INTERVAL;VALUE=DURATION:PT1H
X-Robots-Tag:noindex
X-PUBLISHED-TTL:PT1H
BEGIN:VTIMEZONE
TZID:America/Chicago
BEGIN:DAYLIGHT
TZOFFSETFROM:-0600
TZOFFSETTO:-0500
TZNAME:CDT
DTSTART:20240310T080000
END:DAYLIGHT
BEGIN:STANDARD
TZOFFSETFROM:-0500
TZOFFSETTO:-0600
TZNAME:CST
DTSTART:20241103T070000
END:STANDARD
BEGIN:DAYLIGHT
TZOFFSETFROM:-0600
TZOFFSETTO:-0500
TZNAME:CDT
DTSTART:20250309T080000
END:DAYLIGHT
BEGIN:STANDARD
TZOFFSETFROM:-0500
TZOFFSETTO:-0600
TZNAME:CST
DTSTART:20251102T070000
END:STANDARD
BEGIN:DAYLIGHT
TZOFFSETFROM:-0600
TZOFFSETTO:-0500
TZNAME:CDT
DTSTART:20260308T080000
END:DAYLIGHT
BEGIN:STANDARD
TZOFFSETFROM:-0500
TZOFFSETTO:-0600
TZNAME:CST
DTSTART:20261101T070000
END:STANDARD
END:VTIMEZONE
BEGIN:VEVENT
DTSTART;TZID=America/Chicago:20250924T180000
DTEND;TZID=America/Chicago:20250924T220000
DTSTAMP:20260420T114932
CREATED:20250602T161457Z
LAST-MODIFIED:20250602T161457Z
UID:10000614-1758736800-1758751200@marinerscovemadison.com
SUMMARY:PICK-UP PICKLEBALL
DESCRIPTION:If you are interested in playing Pickleball\, contact Michelle Kullmann.  Her email is michellekthrives@gmail.com
URL:https://marinerscovemadison.com/event/pick-up-pickleball/2025-09-24/
ORGANIZER;CN="Karen Coleman":MAILTO:karencoleman25@gmail.com
END:VEVENT
BEGIN:VEVENT
DTSTART;TZID=America/Chicago:20250924T130000
DTEND;TZID=America/Chicago:20250924T140000
DTSTAMP:20260420T114932
CREATED:20250709T144415Z
LAST-MODIFIED:20251028T184916Z
UID:10000653-1758718800-1758722400@marinerscovemadison.com
SUMMARY:WATER AEROBICS
DESCRIPTION:Water Aerobics
URL:https://marinerscovemadison.com/event/water-aerobics/2025-09-24/
LOCATION:Outdoor Pool
ORGANIZER;CN="Karen Coleman":MAILTO:karencoleman25@gmail.com
END:VEVENT
BEGIN:VEVENT
DTSTART;TZID=America/Chicago:20250917T180000
DTEND;TZID=America/Chicago:20250917T220000
DTSTAMP:20260420T114932
CREATED:20250602T161457Z
LAST-MODIFIED:20250602T161457Z
UID:10000613-1758132000-1758146400@marinerscovemadison.com
SUMMARY:PICK-UP PICKLEBALL
DESCRIPTION:If you are interested in playing Pickleball\, contact Michelle Kullmann.  Her email is michellekthrives@gmail.com
URL:https://marinerscovemadison.com/event/pick-up-pickleball/2025-09-17/
ORGANIZER;CN="Karen Coleman":MAILTO:karencoleman25@gmail.com
END:VEVENT
BEGIN:VEVENT
DTSTART;TZID=America/Chicago:20250917T130000
DTEND;TZID=America/Chicago:20250917T140000
DTSTAMP:20260420T114932
CREATED:20250709T144415Z
LAST-MODIFIED:20251028T184916Z
UID:10000652-1758114000-1758117600@marinerscovemadison.com
SUMMARY:WATER AEROBICS
DESCRIPTION:Water Aerobics
URL:https://marinerscovemadison.com/event/water-aerobics/2025-09-17/
LOCATION:Outdoor Pool
ORGANIZER;CN="Karen Coleman":MAILTO:karencoleman25@gmail.com
END:VEVENT
BEGIN:VEVENT
DTSTART;TZID=America/Chicago:20250910T180000
DTEND;TZID=America/Chicago:20250910T220000
DTSTAMP:20260420T114932
CREATED:20250602T161457Z
LAST-MODIFIED:20250602T161457Z
UID:10000612-1757527200-1757541600@marinerscovemadison.com
SUMMARY:PICK-UP PICKLEBALL
DESCRIPTION:If you are interested in playing Pickleball\, contact Michelle Kullmann.  Her email is michellekthrives@gmail.com
URL:https://marinerscovemadison.com/event/pick-up-pickleball/2025-09-10/
ORGANIZER;CN="Karen Coleman":MAILTO:karencoleman25@gmail.com
END:VEVENT
BEGIN:VEVENT
DTSTART;TZID=America/Chicago:20250910T130000
DTEND;TZID=America/Chicago:20250910T140000
DTSTAMP:20260420T114932
CREATED:20250709T144415Z
LAST-MODIFIED:20251028T184916Z
UID:10000651-1757509200-1757512800@marinerscovemadison.com
SUMMARY:WATER AEROBICS
DESCRIPTION:Water Aerobics
URL:https://marinerscovemadison.com/event/water-aerobics/2025-09-10/
LOCATION:Outdoor Pool
ORGANIZER;CN="Karen Coleman":MAILTO:karencoleman25@gmail.com
END:VEVENT
BEGIN:VEVENT
DTSTART;TZID=America/Chicago:20250903T180000
DTEND;TZID=America/Chicago:20250903T220000
DTSTAMP:20260420T114932
CREATED:20250602T161457Z
LAST-MODIFIED:20250602T161457Z
UID:10000611-1756922400-1756936800@marinerscovemadison.com
SUMMARY:PICK-UP PICKLEBALL
DESCRIPTION:If you are interested in playing Pickleball\, contact Michelle Kullmann.  Her email is michellekthrives@gmail.com
URL:https://marinerscovemadison.com/event/pick-up-pickleball/2025-09-03/
ORGANIZER;CN="Karen Coleman":MAILTO:karencoleman25@gmail.com
END:VEVENT
BEGIN:VEVENT
DTSTART;TZID=America/Chicago:20250903T170000
DTEND;TZID=America/Chicago:20250903T200000
DTSTAMP:20260420T114932
CREATED:20250825T184358Z
LAST-MODIFIED:20250825T191049Z
UID:10000664-1756918800-1756929600@marinerscovemadison.com
SUMMARY:Jazz at Five
DESCRIPTION:
URL:https://marinerscovemadison.com/event/jazz-at-five/
ATTACH;FMTTYPE=image/jpeg:https://marinerscovemadison.com/wp-content/uploads/2025/08/Jazz-concert-at-Five-9-3-2025.jpg
ORGANIZER;CN="Karen Coleman":MAILTO:karencoleman25@gmail.com
END:VEVENT
BEGIN:VEVENT
DTSTART;TZID=America/Chicago:20250903T130000
DTEND;TZID=America/Chicago:20250903T140000
DTSTAMP:20260420T114932
CREATED:20250709T144415Z
LAST-MODIFIED:20251028T184916Z
UID:10000650-1756904400-1756908000@marinerscovemadison.com
SUMMARY:WATER AEROBICS
DESCRIPTION:Water Aerobics
URL:https://marinerscovemadison.com/event/water-aerobics/2025-09-03/
LOCATION:Outdoor Pool
ORGANIZER;CN="Karen Coleman":MAILTO:karencoleman25@gmail.com
END:VEVENT
BEGIN:VEVENT
DTSTART;VALUE=DATE:20250828
DTEND;VALUE=DATE:20250901
DTSTAMP:20260420T114932
CREATED:20250826T161643Z
LAST-MODIFIED:20250826T161643Z
UID:10000665-1756339200-1756684799@marinerscovemadison.com
SUMMARY:Cederberg - Guest Pass Without Owner
DESCRIPTION:Start Date\nThursday\, August 28\, 2025\n\n\nEnd Date\nSunday\, August 31\, 2025\n\n\nOwner Name *\n\nKain and Patty Cederberg\n\n\n\nEmail Address *\n\np.cederberg@comcast.net\n\n\n\nUnit *\n\n309\n\n\n\nDate *\n\n8/26/2025\n\n\n\nSignature/Name *\n\nPatty Cederberg\n\n\n\nGuest Name\n\nScott Cederberg\n\n\n\nGuest Age\n\n26\n\n\n\nGuest Name\n\nSam Kritikos\n\n\n\nGuest Age\n\n26\n\n\n\nGuest Name\n\nLiam Odonnell\n\n\n\nGuest Age\n\n26\n\n\n\nGuest Name\n\nFrank Potiker\n\n\n\nGuest Age\n\n26\n\n\n\nVehicle Make\n\nVolvo\n\n\n\nVehicle Model\n\nXC60\n\n\n\nVehicle Color\n\nWhite\n\n\n\nLicense Plate & State\n\nDG11543\, IL
URL:https://marinerscovemadison.com/event/cederberg-guest-pass-without-owner/
ORGANIZER;CN="Karen Coleman":MAILTO:karencoleman25@gmail.com
END:VEVENT
BEGIN:VEVENT
DTSTART;TZID=America/Chicago:20250827T180000
DTEND;TZID=America/Chicago:20250827T220000
DTSTAMP:20260420T114932
CREATED:20250602T161457Z
LAST-MODIFIED:20250602T161457Z
UID:10000610-1756317600-1756332000@marinerscovemadison.com
SUMMARY:PICK-UP PICKLEBALL
DESCRIPTION:If you are interested in playing Pickleball\, contact Michelle Kullmann.  Her email is michellekthrives@gmail.com
URL:https://marinerscovemadison.com/event/pick-up-pickleball/2025-08-27/
ORGANIZER;CN="Karen Coleman":MAILTO:karencoleman25@gmail.com
END:VEVENT
BEGIN:VEVENT
DTSTART;TZID=America/Chicago:20250827T130000
DTEND;TZID=America/Chicago:20250827T140000
DTSTAMP:20260420T114932
CREATED:20250709T144415Z
LAST-MODIFIED:20251028T184916Z
UID:10000649-1756299600-1756303200@marinerscovemadison.com
SUMMARY:WATER AEROBICS
DESCRIPTION:Water Aerobics
URL:https://marinerscovemadison.com/event/water-aerobics/2025-08-27/
LOCATION:Outdoor Pool
ORGANIZER;CN="Karen Coleman":MAILTO:karencoleman25@gmail.com
END:VEVENT
BEGIN:VEVENT
DTSTART;TZID=America/Chicago:20250824T140000
DTEND;TZID=America/Chicago:20250824T170000
DTSTAMP:20260420T114932
CREATED:20250611T214649Z
LAST-MODIFIED:20250726T160904Z
UID:10000617-1756044000-1756054800@marinerscovemadison.com
SUMMARY:ICE CREAM SOCIAL
DESCRIPTION:RSVP
URL:https://marinerscovemadison.com/event/ice-cream-social/
LOCATION:Outdoor Pool
ATTACH;FMTTYPE=image/jpeg:https://marinerscovemadison.com/wp-content/uploads/2025/07/Ice-Cream-Social-8-24-2025.jpg
ORGANIZER;CN="Karen Coleman":MAILTO:karencoleman25@gmail.com
END:VEVENT
BEGIN:VEVENT
DTSTART;TZID=America/Chicago:20250820T180000
DTEND;TZID=America/Chicago:20250820T220000
DTSTAMP:20260420T114932
CREATED:20250602T161457Z
LAST-MODIFIED:20250602T161457Z
UID:10000609-1755712800-1755727200@marinerscovemadison.com
SUMMARY:PICK-UP PICKLEBALL
DESCRIPTION:If you are interested in playing Pickleball\, contact Michelle Kullmann.  Her email is michellekthrives@gmail.com
URL:https://marinerscovemadison.com/event/pick-up-pickleball/2025-08-20/
ORGANIZER;CN="Karen Coleman":MAILTO:karencoleman25@gmail.com
END:VEVENT
BEGIN:VEVENT
DTSTART;TZID=America/Chicago:20250820T130000
DTEND;TZID=America/Chicago:20250820T140000
DTSTAMP:20260420T114932
CREATED:20250709T144415Z
LAST-MODIFIED:20251028T184916Z
UID:10000648-1755694800-1755698400@marinerscovemadison.com
SUMMARY:WATER AEROBICS
DESCRIPTION:Water Aerobics
URL:https://marinerscovemadison.com/event/water-aerobics/2025-08-20/
LOCATION:Outdoor Pool
ORGANIZER;CN="Karen Coleman":MAILTO:karencoleman25@gmail.com
END:VEVENT
BEGIN:VEVENT
DTSTART;TZID=America/Chicago:20250819T093000
DTEND;TZID=America/Chicago:20250819T113000
DTSTAMP:20260420T114932
CREATED:20250614T163119Z
LAST-MODIFIED:20250614T163119Z
UID:10000633-1755595800-1755603000@marinerscovemadison.com
SUMMARY:CARD/GAME CLUB
DESCRIPTION:Bi-Monthly card/game club sessions are available for those interested in playing or learning how to play cards/games. \nGames Include (but not limited to):  Yahtzee\, Gol\, Dominoes\, 5 Crowns\, Euchre\, Mahjong\, Rummy\, Poker\, Uno\, Cribbage\, King’s Corners\, Sheepshead
URL:https://marinerscovemadison.com/event/card-game-club/2025-08-19/
LOCATION:Library
ATTACH;FMTTYPE=image/jpeg:https://marinerscovemadison.com/wp-content/uploads/2025/06/Card-Game-Flyer-Update-6-9-2025.jpg
ORGANIZER;CN="Karen Coleman":MAILTO:karencoleman25@gmail.com
END:VEVENT
BEGIN:VEVENT
DTSTART;TZID=America/Chicago:20250817T100000
DTEND;TZID=America/Chicago:20250817T140000
DTSTAMP:20260420T114932
CREATED:20250724T185243Z
LAST-MODIFIED:20250724T185243Z
UID:10000661-1755424800-1755439200@marinerscovemadison.com
SUMMARY:Meredith - Request for Upper Deck and Pool
DESCRIPTION:agree to these Terms. Type in Name *\n\nKris Meredith\n\n\n\nOwners Name *\n\nKris Meredith\n\n\n\nEmail Address *\n\nkristhmeredith@outlook.com\n\n\n\nUnit # *\n\n111\n\n\n\nDate of your event *\n\n8/17/25\n\n\n\nStart time *\n\n10am\n\n\n\nEnd Time *\n\n2pm\n\n\n\nType of Event *\n\nbirthday\n\n\n\nNumber of Adults *\n\n4\n\n\n\nNumber of Teens\n\n0\n\n\n\nNumber of Children\n\n6\n\n\n\nSpecial Request to Use Indoor Pool/ Spa or Outdoor Pool/Spa:\n\n\n10:30 am-12:30 pm
URL:https://marinerscovemadison.com/event/meredith-request-for-upper-deck-and-pool/
ORGANIZER;CN="Karen Coleman":MAILTO:karencoleman25@gmail.com
END:VEVENT
BEGIN:VEVENT
DTSTART;TZID=America/Chicago:20250813T180000
DTEND;TZID=America/Chicago:20250813T220000
DTSTAMP:20260420T114932
CREATED:20250602T161457Z
LAST-MODIFIED:20250602T161457Z
UID:10000608-1755108000-1755122400@marinerscovemadison.com
SUMMARY:PICK-UP PICKLEBALL
DESCRIPTION:If you are interested in playing Pickleball\, contact Michelle Kullmann.  Her email is michellekthrives@gmail.com
URL:https://marinerscovemadison.com/event/pick-up-pickleball/2025-08-13/
ORGANIZER;CN="Karen Coleman":MAILTO:karencoleman25@gmail.com
END:VEVENT
BEGIN:VEVENT
DTSTART;TZID=America/Chicago:20250813T130000
DTEND;TZID=America/Chicago:20250813T140000
DTSTAMP:20260420T114932
CREATED:20250709T144415Z
LAST-MODIFIED:20251028T184916Z
UID:10000647-1755090000-1755093600@marinerscovemadison.com
SUMMARY:WATER AEROBICS
DESCRIPTION:Water Aerobics
URL:https://marinerscovemadison.com/event/water-aerobics/2025-08-13/
LOCATION:Outdoor Pool
ORGANIZER;CN="Karen Coleman":MAILTO:karencoleman25@gmail.com
END:VEVENT
BEGIN:VEVENT
DTSTART;TZID=America/Chicago:20250807T183000
DTEND;TZID=America/Chicago:20250807T203000
DTSTAMP:20260420T114932
CREATED:20250614T163119Z
LAST-MODIFIED:20250614T163119Z
UID:10000632-1754591400-1754598600@marinerscovemadison.com
SUMMARY:CARD/GAME CLUB
DESCRIPTION:Bi-Monthly card/game club sessions are available for those interested in playing or learning how to play cards/games. \nGames Include (but not limited to):  Yahtzee\, Gol\, Dominoes\, 5 Crowns\, Euchre\, Mahjong\, Rummy\, Poker\, Uno\, Cribbage\, King’s Corners\, Sheepshead
URL:https://marinerscovemadison.com/event/card-game-club/2025-08-07/
LOCATION:Library
ATTACH;FMTTYPE=image/jpeg:https://marinerscovemadison.com/wp-content/uploads/2025/06/Card-Game-Flyer-Update-6-9-2025.jpg
ORGANIZER;CN="Karen Coleman":MAILTO:karencoleman25@gmail.com
END:VEVENT
BEGIN:VEVENT
DTSTART;TZID=America/Chicago:20250806T180000
DTEND;TZID=America/Chicago:20250806T220000
DTSTAMP:20260420T114932
CREATED:20250602T161457Z
LAST-MODIFIED:20250602T161457Z
UID:10000607-1754503200-1754517600@marinerscovemadison.com
SUMMARY:PICK-UP PICKLEBALL
DESCRIPTION:If you are interested in playing Pickleball\, contact Michelle Kullmann.  Her email is michellekthrives@gmail.com
URL:https://marinerscovemadison.com/event/pick-up-pickleball/2025-08-06/
ORGANIZER;CN="Karen Coleman":MAILTO:karencoleman25@gmail.com
END:VEVENT
BEGIN:VEVENT
DTSTART;TZID=America/Chicago:20250806T130000
DTEND;TZID=America/Chicago:20250806T140000
DTSTAMP:20260420T114932
CREATED:20250709T144415Z
LAST-MODIFIED:20251028T184916Z
UID:10000646-1754485200-1754488800@marinerscovemadison.com
SUMMARY:WATER AEROBICS
DESCRIPTION:Water Aerobics
URL:https://marinerscovemadison.com/event/water-aerobics/2025-08-06/
LOCATION:Outdoor Pool
ORGANIZER;CN="Karen Coleman":MAILTO:karencoleman25@gmail.com
END:VEVENT
BEGIN:VEVENT
DTSTART;TZID=America/Chicago:20250805T093000
DTEND;TZID=America/Chicago:20250805T113000
DTSTAMP:20260420T114932
CREATED:20250614T163119Z
LAST-MODIFIED:20250614T163119Z
UID:10000631-1754386200-1754393400@marinerscovemadison.com
SUMMARY:CARD/GAME CLUB
DESCRIPTION:Bi-Monthly card/game club sessions are available for those interested in playing or learning how to play cards/games. \nGames Include (but not limited to):  Yahtzee\, Gol\, Dominoes\, 5 Crowns\, Euchre\, Mahjong\, Rummy\, Poker\, Uno\, Cribbage\, King’s Corners\, Sheepshead
URL:https://marinerscovemadison.com/event/card-game-club/2025-08-05/
LOCATION:Library
ATTACH;FMTTYPE=image/jpeg:https://marinerscovemadison.com/wp-content/uploads/2025/06/Card-Game-Flyer-Update-6-9-2025.jpg
ORGANIZER;CN="Karen Coleman":MAILTO:karencoleman25@gmail.com
END:VEVENT
BEGIN:VEVENT
DTSTART;TZID=America/Chicago:20250731T183000
DTEND;TZID=America/Chicago:20250731T200000
DTSTAMP:20260420T114932
CREATED:20250523T010455Z
LAST-MODIFIED:20250523T010455Z
UID:10000589-1753986600-1753992000@marinerscovemadison.com
SUMMARY:Monthly Mariner's Cove Board Meeting - Tentative Date
DESCRIPTION:Mariners Cove is inviting you to a scheduled Zoom meeting. \nTopic: Monthly Mariner’s Cove Board Meeting – Tentative Date\nTime: Jul 31\, 2025 06:30 PM Central Time (US and Canada)\nJoin Zoom Meeting\nhttps://us06web.zoom.us/j/89709257073?pwd=8jtjabaGdb6SlHYN4burHJ8iOfQZyZ.1 \nMeeting ID: 897 0925 7073\nPasscode: 224568 \n— \nOne tap mobile\n+13126266799\,\,89709257073#\,\,\,\,*224568# US (Chicago)\n+16465588656\,\,89709257073#\,\,\,\,*224568# US (New York) \n— \n  \n 
URL:https://marinerscovemadison.com/event/monthly-mariners-cove-board-meeting-tentative-date-2/
ORGANIZER;CN="Karen Coleman":MAILTO:karencoleman25@gmail.com
END:VEVENT
BEGIN:VEVENT
DTSTART;TZID=America/Chicago:20250730T180000
DTEND;TZID=America/Chicago:20250730T220000
DTSTAMP:20260420T114932
CREATED:20250602T161457Z
LAST-MODIFIED:20250602T161457Z
UID:10000606-1753898400-1753912800@marinerscovemadison.com
SUMMARY:PICK-UP PICKLEBALL
DESCRIPTION:If you are interested in playing Pickleball\, contact Michelle Kullmann.  Her email is michellekthrives@gmail.com
URL:https://marinerscovemadison.com/event/pick-up-pickleball/2025-07-30/
ORGANIZER;CN="Karen Coleman":MAILTO:karencoleman25@gmail.com
END:VEVENT
BEGIN:VEVENT
DTSTART;TZID=America/Chicago:20250730T130000
DTEND;TZID=America/Chicago:20250730T140000
DTSTAMP:20260420T114932
CREATED:20250709T144415Z
LAST-MODIFIED:20251028T184916Z
UID:10000645-1753880400-1753884000@marinerscovemadison.com
SUMMARY:WATER AEROBICS
DESCRIPTION:Water Aerobics
URL:https://marinerscovemadison.com/event/water-aerobics/2025-07-30/
LOCATION:Outdoor Pool
ORGANIZER;CN="Karen Coleman":MAILTO:karencoleman25@gmail.com
END:VEVENT
BEGIN:VEVENT
DTSTART;TZID=America/Chicago:20250729T160000
DTEND;TZID=America/Chicago:20250729T220000
DTSTAMP:20260420T114932
CREATED:20250712T003513Z
LAST-MODIFIED:20250712T003513Z
UID:10000656-1753804800-1753826400@marinerscovemadison.com
SUMMARY:Drake - Reserve Upper Deck 7/29 4:00 - 10:00pm
DESCRIPTION:I agree to these Terms. Type in Name *\n\nMatthew Drake\n\n\n\nOwners Name *\n\nMatthew Drake\n\n\n\nEmail Address *\n\nho_kye@yahoo.com\n\n\n\nUnit # *\n\n108\n\n\n\nDate of your event *\n\n07/29/2025\n\n\n\nStart time *\n\n4:00 PM\n\n\n\nEnd Time *\n\n10:00 PM\n\n\n\nType of Event *\n\nFriends get together\n\n\n\nNumber of Adults *\n\n30
URL:https://marinerscovemadison.com/event/drake-reserve-upper-deck-7-29-400-1000pm/
ORGANIZER;CN="Karen Coleman":MAILTO:karencoleman25@gmail.com
END:VEVENT
BEGIN:VEVENT
DTSTART;TZID=America/Chicago:20250727T103000
DTEND;TZID=America/Chicago:20250727T170000
DTSTAMP:20260420T114932
CREATED:20250613T225055Z
LAST-MODIFIED:20250613T225055Z
UID:10000618-1753612200-1753635600@marinerscovemadison.com
SUMMARY:Kraus - Reserve Upper Deck and Pool
DESCRIPTION:I agree to these Terms. Type in Name *\n\nKraus Todd\n\n\n\nOwners Name *\n\nKraus Todd\n\n\n\nEmail Address *\n\ntoddrkraus@gmail.com\n\n\n\nUnit # *\n\n110\n\n\n\nDate of your event *\n\n7/27/25\n\n\n\nStart time *\n\n10:30\n\n\n\nEnd Time *\n\n5:00\n\n\n\nType of Event *\n\nBirthday\n\n\n\nNumber of Adults *\n\n12\n\n\n\nNumber of Teens\n\n2\n\n\n\nNumber of Children\n\n7\n\n\n\nSpecial Request to Use Indoor Pool/ Spa or Outdoor Pool/Spa:\n\n\n10:30 am-12:30 pm
URL:https://marinerscovemadison.com/event/kraus-reserve-upper-deck-and-pool/
ORGANIZER;CN="Karen Coleman":MAILTO:karencoleman25@gmail.com
END:VEVENT
BEGIN:VEVENT
DTSTART;VALUE=DATE:20250726
DTEND;VALUE=DATE:20250729
DTSTAMP:20260420T114932
CREATED:20250724T183813Z
LAST-MODIFIED:20250724T184110Z
UID:10000659-1753488000-1753747199@marinerscovemadison.com
SUMMARY:Getz - Request for Guest with no Owner Present
DESCRIPTION:Start Date\nSaturday\, July 26\, 2025\n\n\nEnd Date\nMonday\, July 28\, 2025\n\n\nOwner Name *\n\nBob Getz\n\n\n\nEmail Address *\n\nrgetz173@yahoo.com\n\n\n\nUnit *\n\n508\n\n\n\nDate *\n\n7-24-2025\n\n\n\nSignature/Name *\n\nRobert Getz\n\n\n\nGuest Name\n\nRobert Getz\n\n\n\nGuest Age\n\nSon\n\n\n\nGuest Name\n\nMichelle Getz\n\n\n\nGuest Age\n\nDaughter-in-law\n\n\n\nGuest Name\n\nKatie Getz\n\n\n\nGuest Age\n\nGranddaughter\n\n\n\nGuest Name\n\nKelly Getz\n\n\n\nGuest Age\n\nGranddaughter\n\n\n\nGuest Name\n\nJack Getz\n\n\n\nGuest Age\n\nGrandson\n\n\n\nVehicle Make\n\nUnknown
URL:https://marinerscovemadison.com/event/getz-request-for-guest-with-no-owner-present/
ORGANIZER;CN="Karen Coleman":MAILTO:karencoleman25@gmail.com
END:VEVENT
BEGIN:VEVENT
DTSTART;TZID=America/Chicago:20250724T183000
DTEND;TZID=America/Chicago:20250724T203000
DTSTAMP:20260420T114932
CREATED:20250614T163119Z
LAST-MODIFIED:20250614T163119Z
UID:10000630-1753381800-1753389000@marinerscovemadison.com
SUMMARY:CARD/GAME CLUB
DESCRIPTION:Bi-Monthly card/game club sessions are available for those interested in playing or learning how to play cards/games. \nGames Include (but not limited to):  Yahtzee\, Gol\, Dominoes\, 5 Crowns\, Euchre\, Mahjong\, Rummy\, Poker\, Uno\, Cribbage\, King’s Corners\, Sheepshead
URL:https://marinerscovemadison.com/event/card-game-club/2025-07-24/
LOCATION:Library
ATTACH;FMTTYPE=image/jpeg:https://marinerscovemadison.com/wp-content/uploads/2025/06/Card-Game-Flyer-Update-6-9-2025.jpg
ORGANIZER;CN="Karen Coleman":MAILTO:karencoleman25@gmail.com
END:VEVENT
END:VCALENDAR